BEGIN:VCALENDAR
VERSION:2.0
PRODID:-//3x3sport - ECPv6.15.12.2//NONSGML v1.0//EN
CALSCALE:GREGORIAN
METHOD:PUBLISH
X-WR-CALNAME:3x3sport
X-ORIGINAL-URL:https://www.3x3sport.sk
X-WR-CALDESC:Udalosti pre 3x3sport
REFRESH-INTERVAL;VALUE=DURATION:PT1H
X-Robots-Tag:noindex
X-PUBLISHED-TTL:PT1H
BEGIN:VTIMEZONE
TZID:Europe/Bratislava
BEGIN:DAYLIGHT
TZOFFSETFROM:+0100
TZOFFSETTO:+0200
TZNAME:CEST
DTSTART:20250330T010000
END:DAYLIGHT
BEGIN:STANDARD
TZOFFSETFROM:+0200
TZOFFSETTO:+0100
TZNAME:CET
DTSTART:20251026T010000
END:STANDARD
BEGIN:DAYLIGHT
TZOFFSETFROM:+0100
TZOFFSETTO:+0200
TZNAME:CEST
DTSTART:20260329T010000
END:DAYLIGHT
BEGIN:STANDARD
TZOFFSETFROM:+0200
TZOFFSETTO:+0100
TZNAME:CET
DTSTART:20261025T010000
END:STANDARD
BEGIN:DAYLIGHT
TZOFFSETFROM:+0100
TZOFFSETTO:+0200
TZNAME:CEST
DTSTART:20270328T010000
END:DAYLIGHT
BEGIN:STANDARD
TZOFFSETFROM:+0200
TZOFFSETTO:+0100
TZNAME:CET
DTSTART:20271031T010000
END:STANDARD
END:VTIMEZONE
BEGIN:VEVENT
DTSTART;VALUE=DATE:20260605
DTEND;VALUE=DATE:20260607
DTSTAMP:20260425T145838
CREATED:20260126T222314Z
LAST-MODIFIED:20260420T203225Z
UID:48177-1780617600-1780790399@www.3x3sport.sk
SUMMARY:3X3SPORTFEST Sabinov
DESCRIPTION:Multišportové podujatie s turnajmi v: \n| BEH | 3X3FLORBAL | 3X3FUTBAL | 3X3SPORTGAMES | DUEL FLORBAL | DUEL FUTBAL | PICKLEBALL | BEDMINTON | CORNHOLE | ŠÍPKY | a ďalšie .. \n \nVšetky všeobecné informácie o 3x3SPORTFESTE \n\nprogram dňa\nsprievodné aktivity\ndivácky režim\nmapu areálu a atmosféru nájdeš v hlavnom článku podujatia.
URL:https://www.3x3sport.sk/turnaje/3x3sportfest-sabinov/
LOCATION:Sabinov\, Sabinov\, Slovakia (Slovak Republic)
CATEGORIES:Turnaje
ATTACH;FMTTYPE=image/jpeg:https://www.3x3sport.sk/wp-content/uploads/2026/02/4-4.jpg
ORGANIZER;CN="3x3sport":MAILTO:offfice@3x3sport.sk
END:VEVENT
BEGIN:VEVENT
DTSTART;VALUE=DATE:20260612
DTEND;VALUE=DATE:20260614
DTSTAMP:20260425T145838
CREATED:20260126T222440Z
LAST-MODIFIED:20260420T203304Z
UID:48180-1781222400-1781395199@www.3x3sport.sk
SUMMARY:3X3SPORTFEST Nitra
DESCRIPTION:Multišportové podujatie s turnajmi v: \n| BEH | 3X3FLORBAL | 3X3FUTBAL | 3X3SPORTGAMES | DUEL FLORBAL | DUEL FUTBAL | PICKLEBALL | BEDMINTON | CORNHOLE | ŠÍPKY | a ďalšie .. \n \nVšetky všeobecné informácie o 3x3SPORTFESTE \n\nprogram dňa\nsprievodné aktivity\ndivácky režim\nmapu areálu a atmosféru nájdeš v hlavnom článku podujatia.
URL:https://www.3x3sport.sk/turnaje/3x3sportfest-nitra/
LOCATION:Nitra\, Nitra\, Slovakia (Slovak Republic)
CATEGORIES:Turnaje
ATTACH;FMTTYPE=image/jpeg:https://www.3x3sport.sk/wp-content/uploads/2026/02/5-1-2.jpg
ORGANIZER;CN="3x3sport":MAILTO:offfice@3x3sport.sk
END:VEVENT
BEGIN:VEVENT
DTSTART;VALUE=DATE:20260619
DTEND;VALUE=DATE:20260621
DTSTAMP:20260425T145838
CREATED:20260126T192417Z
LAST-MODIFIED:20260420T203403Z
UID:48164-1781827200-1781999999@www.3x3sport.sk
SUMMARY:3X3SPORTFEST Košice
DESCRIPTION:Multišportové podujatie s turnajmi v: \n| BEH | 3X3FLORBAL | 3X3FUTBAL | 3X3SPORTGAMES | DUEL FLORBAL | DUEL FUTBAL | PICKLEBALL | BEDMINTON | CORNHOLE | ŠÍPKY | a ďalšie .. \n \nVšetky všeobecné informácie o 3x3SPORTFESTE \n\nprogram dňa\nsprievodné aktivity\ndivácky režim\nmapu areálu a atmosféru nájdeš v hlavnom článku podujatia.
URL:https://www.3x3sport.sk/turnaje/3x3sportfest-kosice/
CATEGORIES:Turnaje
ATTACH;FMTTYPE=image/jpeg:https://www.3x3sport.sk/wp-content/uploads/2026/01/3x3sportfest-2026.jpg
ORGANIZER;CN="3x3sport":MAILTO:offfice@3x3sport.sk
END:VEVENT
END:VCALENDAR